BEGIN:VCALENDAR
VERSION:2.0
PRODID:-//Turnverein Oberndorf e.V. - ECPv6.15.20//NONSGML v1.0//EN
CALSCALE:GREGORIAN
METHOD:PUBLISH
X-WR-CALNAME:Turnverein Oberndorf e.V.
X-ORIGINAL-URL:https://www.turnverein-oberndorf.de
X-WR-CALDESC:Veranstaltungen für Turnverein Oberndorf e.V.
REFRESH-INTERVAL;VALUE=DURATION:PT1H
X-Robots-Tag:noindex
X-PUBLISHED-TTL:PT1H
BEGIN:VTIMEZONE
TZID:Europe/Berlin
BEGIN:DAYLIGHT
TZOFFSETFROM:+0100
TZOFFSETTO:+0200
TZNAME:CEST
DTSTART:20230326T010000
END:DAYLIGHT
BEGIN:STANDARD
TZOFFSETFROM:+0200
TZOFFSETTO:+0100
TZNAME:CET
DTSTART:20231029T010000
END:STANDARD
BEGIN:DAYLIGHT
TZOFFSETFROM:+0100
TZOFFSETTO:+0200
TZNAME:CEST
DTSTART:20240331T010000
END:DAYLIGHT
BEGIN:STANDARD
TZOFFSETFROM:+0200
TZOFFSETTO:+0100
TZNAME:CET
DTSTART:20241027T010000
END:STANDARD
BEGIN:DAYLIGHT
TZOFFSETFROM:+0100
TZOFFSETTO:+0200
TZNAME:CEST
DTSTART:20250330T010000
END:DAYLIGHT
BEGIN:STANDARD
TZOFFSETFROM:+0200
TZOFFSETTO:+0100
TZNAME:CET
DTSTART:20251026T010000
END:STANDARD
END:VTIMEZONE
BEGIN:VEVENT
DTSTART;VALUE=DATE:20240511
DTEND;VALUE=DATE:20240512
DTSTAMP:20260420T022803
CREATED:20240223T042741Z
LAST-MODIFIED:20240508T171247Z
UID:2309-1715385600-1715471999@www.turnverein-oberndorf.de
SUMMARY:Kabarett Bumillo mit Weinfest wurde abgesagt
DESCRIPTION:Liebe Kabarett- und Weinfest-Fans\,\n\n\nmit Bedauern müssen wir euch mitteilen\, dass die Veranstaltung „Kabarett Bumillo mit Weinfest“ am 11.05.2024 leider abgesagt werden muss. \n\n\nTrotz eures Interesses haben sich zu wenige Karten im Vorfeld verkauft.\n\n\n Für diejenigen\, die bereits Karten erworben haben\, könnt ihr euch das Eintrittsgeld bei der Vorverkaufsstelle @sporthartl in Oberndorf zurückerstatten lassen.\n\n\nWir bedanken uns herzlich bei allen\, die ihr Interesse gezeigt haben und entschuldigen uns für die Absage. Diese Entscheidung ist uns nicht leichtgefallen. \n\n\n Doch aufgepasst! Wir freuen uns nun umso mehr auf unser kommendes Highlight\, das Vatertagsfest am Donnerstag! \nKabarett-Interessierte sind herzlich eingeladen\, sich anzuschließen. Vielleicht wird ja auch hier der ein oder andere Auftritt nach ein paar Berghammer Hellen besonders amüsant.\n\n\nVielen Dank für euer Verständnis. \n\n\nEuer TV Oberndorf Team
URL:https://www.turnverein-oberndorf.de/veranstaltung/bumillo-kommt-zum-weinfest/
LOCATION:Hanslbergstadl des TV Oberndorf\, Bräukellerweg 7\, Bad Abbach\, Bayern\, 93077\, Deutschland
CATEGORIES:Fest
ATTACH;FMTTYPE=image/jpeg:https://www.turnverein-oberndorf.de/wp-content/uploads/2024/02/2024-05-08-Bumillo-am-Weinfest-Absage.jpg
END:VEVENT
END:VCALENDAR